BEGIN:VCALENDAR
VERSION:2.0
PRODID:-//Purpose Church - ECPv6.15.20//NONSGML v1.0//EN
CALSCALE:GREGORIAN
METHOD:PUBLISH
X-WR-CALNAME:Purpose Church
X-ORIGINAL-URL:https://purpose-church.us
X-WR-CALDESC:Eventos para Purpose Church
REFRESH-INTERVAL;VALUE=DURATION:PT1H
X-Robots-Tag:noindex
X-PUBLISHED-TTL:PT1H
BEGIN:VTIMEZONE
TZID:UTC
BEGIN:STANDARD
TZOFFSETFROM:+0000
TZOFFSETTO:+0000
TZNAME:UTC
DTSTART:20250101T000000
END:STANDARD
END:VTIMEZONE
BEGIN:VEVENT
DTSTART;TZID=UTC:20260220T200000
DTEND;TZID=UTC:20260220T220000
DTSTAMP:20260419T210555
CREATED:20260201T032055Z
LAST-MODIFIED:20260201T032055Z
UID:7831-1771617600-1771624800@purpose-church.us
SUMMARY:Cuando la iglesia ora\, algo se mueve - Noche de Oración y Adoración
DESCRIPTION:Un tiempo para rendir el corazón\, adorar y buscar la presencia de Dios como iglesia.Una noche para venir con expectativa y fe. \n📅 Viernes 20 de febrero🕗 8:00 p. m.📍 Purpose Church – 1700 N Krome Ave\, Homestead\, FL 33030
URL:https://purpose-church.us/event/cuando-la-iglesia-ora-algo-se-mueve-noche-de-oracion-y-adoracion/
LOCATION:Homestead
ATTACH;FMTTYPE=image/jpeg:https://purpose-church.us/wp-content/uploads/2026/02/Pagina-1-Copia-2-1.jpg
END:VEVENT
BEGIN:VEVENT
DTSTART;TZID=UTC:20260227T193000
DTEND;TZID=UTC:20260227T210000
DTSTAMP:20260419T210555
CREATED:20260201T032208Z
LAST-MODIFIED:20260201T032208Z
UID:7833-1772220600-1772226000@purpose-church.us
SUMMARY:Comunidad que transforma - PC Youth
DESCRIPTION:Una nueva noche para crecer\, compartir y fortalecer la fe como generación.Un espacio de conexión real\, propósito y dirección. \n📅 Viernes 27 de febrero🕢 7:30 p. m.📍 Purpose Church – 1700 N Krome Ave\, Homestead\, FL 33030
URL:https://purpose-church.us/event/comunidad-que-transforma-pc-youth/
LOCATION:Homestead
ATTACH;FMTTYPE=image/jpeg:https://purpose-church.us/wp-content/uploads/2026/02/Pagina-1-Copia-6.jpg
END:VEVENT
BEGIN:VEVENT
DTSTART;TZID=UTC:20260313T193000
DTEND;TZID=UTC:20260313T213000
DTSTAMP:20260419T210555
CREATED:20260311T205632Z
LAST-MODIFIED:20260311T205659Z
UID:7860-1773430200-1773437400@purpose-church.us
SUMMARY:PC Youth – Reunión de Jóvenes
DESCRIPTION:Un espacio para que los jóvenes se conecten con Dios\, hagan nuevos amigos y crezcan en su fe a través de adoración\, mensaje y actividades. \n📅 Fechas: Viernes 13 y 27 de marzo🕢 Hora: 7:30 pm📍 Lugar: 1700 N Krome Ave\, Homestead\, FL 33030⛪ Purpose Church
URL:https://purpose-church.us/event/pc-youth-reunion-de-jovenes/
LOCATION:Purpose Church\, 1700 N Krome Ave Homestead\,Fl 33030\, Florida\, Homestead\, United States
CATEGORIES:Eventos Especiales
ATTACH;FMTTYPE=image/jpeg:https://purpose-church.us/wp-content/uploads/2026/03/WhatsApp-Image-2026-03-11-at-3.17.00-PM.jpeg
ORGANIZER;CN="Purpose Church":MAILTO:info@purposechurch.us
END:VEVENT
BEGIN:VEVENT
DTSTART;TZID=UTC:20260320T200000
DTEND;TZID=UTC:20260320T220000
DTSTAMP:20260419T210555
CREATED:20260311T204650Z
LAST-MODIFIED:20260311T204651Z
UID:7846-1774036800-1774044000@purpose-church.us
SUMMARY:Noche de Adoración
DESCRIPTION:Una noche especial para adorar a Dios juntos como iglesia.Un tiempo de música\, oración y búsqueda de la presencia de Dios. \n📅 Fecha: 20 de marzo🕗 Hora: 08:00 pm📍 Lugar: 1700 N Krome Ave\, Homestead\, FL 33030⛪ Purpose Church \nVen con tu familia y amigos y vivamos una noche donde levantamos nuestras manos y nuestros corazones a Dios.
URL:https://purpose-church.us/event/noche-de-adoracion/
LOCATION:Homestead
CATEGORIES:Eventos Especiales
ATTACH;FMTTYPE=image/jpeg:https://purpose-church.us/wp-content/uploads/2026/03/WhatsApp-Image-2026-03-11-at-3.17.00-PM-1.jpeg
END:VEVENT
BEGIN:VEVENT
DTSTART;TZID=UTC:20260328T100000
DTEND;TZID=UTC:20260328T120000
DTSTAMP:20260419T210555
CREATED:20260311T204841Z
LAST-MODIFIED:20260311T204841Z
UID:7854-1774692000-1774699200@purpose-church.us
SUMMARY:Desayuno Valientes
DESCRIPTION:Un encuentro diseñado para hombres que desean crecer en su fe\, fortalecer su carácter y construir relaciones con otros hombres de propósito. \nCompartiremos un desayuno\, un tiempo de enseñanza y conversación que inspira a vivir con valentía. \n📅 Fecha: Sábado 28 de marzo🕙 Hora: 10:00 am📍 Lugar: 1700 N Krome Ave\, Homestead\, FL 33030⛪ Purpose Church \nTe esperamos para comenzar el día con propósito.
URL:https://purpose-church.us/event/desayuno-valientes/
LOCATION:Homestead
CATEGORIES:Eventos Especiales
ATTACH;FMTTYPE=image/jpeg:https://purpose-church.us/wp-content/uploads/2026/03/WhatsApp-Image-2026-03-11-at-3.17.00-PM-3.jpeg
END:VEVENT
BEGIN:VEVENT
DTSTART;TZID=UTC:20260329T110000
DTEND;TZID=UTC:20260329T130000
DTSTAMP:20260419T210555
CREATED:20260311T205427Z
LAST-MODIFIED:20260311T205509Z
UID:7857-1774782000-1774789200@purpose-church.us
SUMMARY:Domingo de Ramos – Lirios
DESCRIPTION:Celebremos juntos el Domingo de Ramos\, recordando la entrada triunfal de Jesús y el inicio de una semana llena de significado para nuestra fe. \nSerá un servicio especial de adoración y mensaje para toda la familia. \n📅 Fecha: Domingo 29 de marzo🕚 Hora: 11:00 am📍 Lugar: 1700 N Krome Ave\, Homestead\, FL 33030⛪ Purpose Church \nVen y celebremos juntos este momento tan importante.
URL:https://purpose-church.us/event/domingo-de-ramos-lirios/
LOCATION:Homestead
CATEGORIES:Eventos Especiales
ATTACH;FMTTYPE=image/jpeg:https://purpose-church.us/wp-content/uploads/2026/03/WhatsApp-Image-2026-03-11-at-3.17.00-PM-4.jpeg
END:VEVENT
END:VCALENDAR