BEGIN:VCALENDAR
VERSION:2.0
PRODID:-//Purpose Church - ECPv6.15.20//NONSGML v1.0//EN
CALSCALE:GREGORIAN
METHOD:PUBLISH
X-WR-CALNAME:Purpose Church
X-ORIGINAL-URL:https://purpose-church.us
X-WR-CALDESC:Eventos para Purpose Church
REFRESH-INTERVAL;VALUE=DURATION:PT1H
X-Robots-Tag:noindex
X-PUBLISHED-TTL:PT1H
BEGIN:VTIMEZONE
TZID:UTC
BEGIN:STANDARD
TZOFFSETFROM:+0000
TZOFFSETTO:+0000
TZNAME:UTC
DTSTART:20250101T000000
END:STANDARD
END:VTIMEZONE
BEGIN:VEVENT
DTSTART;TZID=UTC:20260130T180000
DTEND;TZID=UTC:20260131T110000
DTSTAMP:20260419T235232
CREATED:20260104T004355Z
LAST-MODIFIED:20260104T015600Z
UID:7671-1769796000-1769857200@purpose-church.us
SUMMARY:Reunión Valientes
DESCRIPTION:Un llamado a levantarnos con fe y determinación\nLa Reunión Valientes es un tiempo especial diseñado para afirmar identidad\, fortalecer el carácter y renovar el compromiso espiritual. Durante estos dos días\, nos reunimos para recordar que Dios llama a hombres valientes\, dispuestos a caminar con fe\, responsabilidad y propósito. \nSerá un espacio de reflexión\, comunión y crecimiento\, donde creemos que Dios forma el corazón\, fortalece la visión y prepara a cada hombre para los desafíos que vienen. No es solo una reunión\, es un punto de inflexión para cerrar el mes y comenzar lo que sigue con convicción. \nTe invitamos a ser parte de este encuentro\, dispuesto a escuchar\, aprender y avanzar con firmeza. \nFecha: 30 y 31 de eneroHora: Viernes 6:00 p. m. hasta el sábado 11:00 a. m.Lugar: Rancho la nueva cosecha.Purpose Church
URL:https://purpose-church.us/event/reunion-valientes/
LOCATION:Rancho la nueva cosecha.\, esta\, United States
CATEGORIES:Eventos Especiales
ATTACH;FMTTYPE=image/png:https://purpose-church.us/wp-content/uploads/2026/01/valientes.png
ORGANIZER;CN="Purpose Church":MAILTO:info@purposechurch.us
END:VEVENT
END:VCALENDAR