BEGIN:VCALENDAR
VERSION:2.0
PRODID:-//Purpose Church - ECPv6.15.20//NONSGML v1.0//EN
CALSCALE:GREGORIAN
METHOD:PUBLISH
X-ORIGINAL-URL:https://purpose-church.us
X-WR-CALDESC:Eventos para Purpose Church
REFRESH-INTERVAL;VALUE=DURATION:PT1H
X-Robots-Tag:noindex
X-PUBLISHED-TTL:PT1H
BEGIN:VTIMEZONE
TZID:UTC
BEGIN:STANDARD
TZOFFSETFROM:+0000
TZOFFSETTO:+0000
TZNAME:UTC
DTSTART:20250101T000000
END:STANDARD
END:VTIMEZONE
BEGIN:VEVENT
DTSTART;TZID=UTC:20260219T193000
DTEND;TZID=UTC:20260219T210000
DTSTAMP:20260419T192509
CREATED:20260201T031952Z
LAST-MODIFIED:20260201T031952Z
UID:7829-1771529400-1771534800@purpose-church.us
SUMMARY:Seguir creciendo con propósito - Discipulado
DESCRIPTION:Cada encuentro es una nueva oportunidad para afirmar la fe y avanzar con bases sólidas.Un espacio cercano de formación\, comunión y acompañamiento espiritual. \n📅 Jueves 19 de febrero🕢 7:30 p. m.📍 Purpose Church – 1700 N Krome Ave\, Homestead\, FL 33030
URL:https://purpose-church.us/event/seguir-creciendo-con-proposito-discipulado/
LOCATION:Homestead
ATTACH;FMTTYPE=image/jpeg:https://purpose-church.us/wp-content/uploads/2026/02/Pagina-1-Copia-5-1.jpg
END:VEVENT
END:VCALENDAR