BEGIN:VCALENDAR
VERSION:2.0
PRODID:-//Purpose Church - ECPv6.15.20//NONSGML v1.0//EN
CALSCALE:GREGORIAN
METHOD:PUBLISH
X-ORIGINAL-URL:https://purpose-church.us
X-WR-CALDESC:Eventos para Purpose Church
REFRESH-INTERVAL;VALUE=DURATION:PT1H
X-Robots-Tag:noindex
X-PUBLISHED-TTL:PT1H
BEGIN:VTIMEZONE
TZID:UTC
BEGIN:STANDARD
TZOFFSETFROM:+0000
TZOFFSETTO:+0000
TZNAME:UTC
DTSTART:20250101T000000
END:STANDARD
END:VTIMEZONE
BEGIN:VEVENT
DTSTART;VALUE=DATE:20260112
DTEND;VALUE=DATE:20260127
DTSTAMP:20260419T210124
CREATED:20260103T224230Z
LAST-MODIFIED:20260109T212822Z
UID:7657-1768176000-1769471999@purpose-church.us
SUMMARY:Ayuno Congregacional
DESCRIPTION:Del 12 al 26 · Un tiempo para buscar a Dios juntos\nDel 12 al 26\, como iglesia nos unimos en un tiempo especial de ayuno y oración congregacional\, apartando estos días para buscar a Dios con un corazón dispuesto y una fe expectante. \nEste ayuno es una invitación a detenernos\, escuchar Su voz y alinear nuestra vida\, familia y propósito a lo que Dios quiere hacer en este nuevo tiempo. Creemos que cuando caminamos juntos en unidad\, Dios trae dirección\, renovación espiritual y fortaleza para todo el año. \nTe animamos a participar activamente durante estos días\, entendiendo que no es solo un acto individual\, sino un clamor colectivo\, donde como congregación ponemos cada área en las manos de Dios.
URL:https://purpose-church.us/event/ayuno-congregacional/
LOCATION:Homestead
ATTACH;FMTTYPE=image/png:https://purpose-church.us/wp-content/uploads/2026/01/AYUNO.png
END:VEVENT
BEGIN:VEVENT
DTSTART;TZID=UTC:20260117T093000
DTEND;TZID=UTC:20260117T103000
DTSTAMP:20260419T210124
CREATED:20260103T220815Z
LAST-MODIFIED:20260103T223112Z
UID:7648-1768642200-1768645800@purpose-church.us
SUMMARY:Reunión Valiosa
DESCRIPTION:Un nuevo comienzo para caminar juntas\nComenzamos el año reuniéndonos como comunidad\, con el corazón dispuesto y la visión clara. Reunión Valiosa es el primer encuentro del año\, un espacio diseñado para reencontrarnos\, fortalecer lazos y dar inicio a un nuevo ciclo con propósito. \nSerá un tiempo para compartir\, escuchar\, renovar fuerzas y recordar que cada historia importa. Iniciamos este año convencidas de que juntas crecemos\, juntas aprendemos y juntas avanzamos. \nTe esperamos para abrir este nuevo capítulo\, sembrando lo que dará fruto a lo largo del año. \nFecha: Viernes 17 de eneroHora: 9:30 a. m.Lugar: 1700 N Krome Ave\, Homestead\, FL 33030Purpose Church
URL:https://purpose-church.us/event/reunion-valiosa/
LOCATION:Purpose Church\, 1700 N Krome Ave Homestead\,Fl 33030\, Florida\, Homestead\, United States
CATEGORIES:Eventos Especiales
ATTACH;FMTTYPE=image/png:https://purpose-church.us/wp-content/uploads/2026/01/valiosa-2.png
ORGANIZER;CN="Purpose Church":MAILTO:info@purposechurch.us
END:VEVENT
END:VCALENDAR